BEGIN:VCALENDAR
VERSION:2.0
METHOD:PUBLISH
BEGIN:VEVENT
UID:WILD_APRICOT_EVENT_3586554_SESSION_1
DTSTART:20201021T100000Z
DTEND:20201021T120000Z
SUMMARY:ADOHTA WA Meeting
LOCATION:ADA House\, Havelock Street\, West Perth WA
DESCRIPTION:https://adohta.net.au/event-3586554\n\n6:00 pm Drinks and Nibbles\n  6:30 pm General Meeting\n  \n\n  Followed by Guest Speaker - Dr Ahmed Salah\, Periodontist\n  \n\n  Members - Free\n  Non-Members - $50 payable on the night\n  RSVP adohta-wa@adohta.net.au \n
DTSTAMP:20200228T033011Z
END:VEVENT
END:VCALENDAR
