BEGIN:VCALENDAR
VERSION:2.0
METHOD:PUBLISH
BEGIN:VEVENT
UID:WILD_APRICOT_EVENT_3621541_SESSION_1
DTSTART:20200319T220000Z
DTEND:20200320T060000Z
SUMMARY:DHSV Public Oral Health Innovations Conference
LOCATION:Melbourne Convention & Exhibition Centre\, 1 Convention Place\, South Wharf VIC 3006
DESCRIPTION:https://adohta.net.au/event-3621541\n\nhttps://www.dhsv.org.au/careers/cpd/cpd-calendar/cpd-events-free/public-oral-health-innovations-conference-2010\n  The theme for 2020 is 'Outcomes Matter' The conference brings together the public oral health workforce to share information and hear about the latest developments\, supports and projects happening across Victoria. As always\, the conference is a great opportunity to meet up with colleagues\, see what is new from the dental trade and to feel excited about the future.\n\n  \n\n
DTSTAMP:20200228T032437Z
END:VEVENT
END:VCALENDAR
