BEGIN:VCALENDAR
VERSION:2.0
METHOD:PUBLISH
BEGIN:VEVENT
UID:WILD_APRICOT_EVENT_3650198_SESSION_1
DTSTART:20200319T140000Z
DTEND:20200320T140000Z
SUMMARY:World Oral Health Day 2020
LOCATION:Celebrated World Wide
DESCRIPTION:https://adohta.net.au/event-3650198\n\nhttps://www.worldoralhealthday.org/\n Your mouth is amazing! It helps you to eat\, speak and smile confidently - to enjoy life.\n Say Ahh Unite for Mouth Health!\n  \n\n
DTSTAMP:20200228T032423Z
END:VEVENT
END:VCALENDAR
