BEGIN:VCALENDAR
VERSION:2.0
METHOD:PUBLISH
BEGIN:VEVENT
UID:WILD_APRICOT_EVENT_3688924_SESSION_1
DTSTART:20200827T233000Z
DTEND:20200829T073000Z
SUMMARY:ADOHTA SANT Conference 2020
LOCATION:Adelaide
DESCRIPTION:https://adohta.net.au/event-3688924\n\n  ADOHTA SANT CONFERENCE 2020\n  CONFERENCE MANAGER  \n Please contact the team at Conference Design with any questions regarding the conference.\n + 61 3 6231 2999\n mail@conferencedesign.com.au\n  \n\n
DTSTAMP:20200228T032858Z
END:VEVENT
END:VCALENDAR
