BEGIN:VCALENDAR
VERSION:2.0
METHOD:PUBLISH
BEGIN:VEVENT
UID:WILD_APRICOT_EVENT_3706600_SESSION_1
DTSTART:20200620T010000Z
DTEND:20200620T090000Z
SUMMARY:ADOHTA WA Black Diamonds Rock! - the course
LOCATION:Crown Hotel\, Great Eastern Highway\, Burswood
DESCRIPTION:https://adohta.net.au/event-3706600\n\nFor further information: \n https://www.adohta.net.au/ADOHTA-WA-Black-Diamonds-Rock\n Early Bird Closes 21st April 2020\n  \n\n  \n\n
DTSTAMP:20200228T032719Z
END:VEVENT
END:VCALENDAR
