BEGIN:VCALENDAR
VERSION:2.0
METHOD:PUBLISH
BEGIN:VEVENT
UID:WILD_APRICOT_EVENT_3746385_SESSION_1
DTSTART:20200408T100000Z
DTEND:20200408T120000Z
SUMMARY:ADOHTA WA Meeting 8 April
LOCATION:ADA House\, Havelock Street\, West Perth WA
DESCRIPTION:https://adohta.net.au/event-3746385\n\n\n\n  MEETING 8 APRIL 2020\n  6:00 pm Drinks and Nibbles\n  6:30 pm General Meeting\n  Followed by Guest Speaker: Dress for Success\n  Members: Free\n  Non-Members: $50\n  Enquiries: adohta-wa@adohta.net.au\n
DTSTAMP:20200228T032543Z
END:VEVENT
END:VCALENDAR
