BEGIN:VCALENDAR
VERSION:2.0
METHOD:PUBLISH
BEGIN:VEVENT
UID:WILD_APRICOT_EVENT_3746570_SESSION_1
DTSTART:20200815T003000Z
DTEND:20200815T033000Z
SUMMARY:ADOHTA WA Breakfast Meeting
LOCATION:Doubletree by Hilton\, 100 James Street\, Perth WA 6003
DESCRIPTION:https://adohta.net.au/event-3746570\n\nREGISTRATIONS WILL OPEN SOON\n  \n\n  \n  \n\n  ADOHTA WA MEETING 15 AUGUST 2020\n  08:15 - 08:30 Registration\n  08:30 - 11:30 Breakfast Meeting\n  Followed by Guest Speaker: Danielle Aubrey\, Autism Association of WA (TBC)\n  Cost: TBC\n  Enquiries: adohta-wa@adohta.net.au\n
DTSTAMP:20200228T032848Z
END:VEVENT
END:VCALENDAR
